BEGIN:VCALENDAR
VERSION:2.0
PRODID:-//Low Rider Dachshund Rescue of Florida - ECPv6.15.20//NONSGML v1.0//EN
CALSCALE:GREGORIAN
METHOD:PUBLISH
X-WR-CALNAME:Low Rider Dachshund Rescue of Florida
X-ORIGINAL-URL:https://lowriderrescue.org
X-WR-CALDESC:Events for Low Rider Dachshund Rescue of Florida
REFRESH-INTERVAL;VALUE=DURATION:PT1H
X-Robots-Tag:noindex
X-PUBLISHED-TTL:PT1H
BEGIN:VTIMEZONE
TZID:America/New_York
BEGIN:DAYLIGHT
TZOFFSETFROM:-0500
TZOFFSETTO:-0400
TZNAME:EDT
DTSTART:20240310T070000
END:DAYLIGHT
BEGIN:STANDARD
TZOFFSETFROM:-0400
TZOFFSETTO:-0500
TZNAME:EST
DTSTART:20241103T060000
END:STANDARD
BEGIN:DAYLIGHT
TZOFFSETFROM:-0500
TZOFFSETTO:-0400
TZNAME:EDT
DTSTART:20250309T070000
END:DAYLIGHT
BEGIN:STANDARD
TZOFFSETFROM:-0400
TZOFFSETTO:-0500
TZNAME:EST
DTSTART:20251102T060000
END:STANDARD
BEGIN:DAYLIGHT
TZOFFSETFROM:-0500
TZOFFSETTO:-0400
TZNAME:EDT
DTSTART:20260308T070000
END:DAYLIGHT
BEGIN:STANDARD
TZOFFSETFROM:-0400
TZOFFSETTO:-0500
TZNAME:EST
DTSTART:20261101T060000
END:STANDARD
END:VTIMEZONE
BEGIN:VEVENT
DTSTART;TZID=America/New_York:20250722T080000
DTEND;TZID=America/New_York:20250822T170000
DTSTAMP:20260425T000334
CREATED:20250722T214342Z
LAST-MODIFIED:20250722T214342Z
UID:35082-1753171200-1755882000@lowriderrescue.org
SUMMARY:Bella's Legacy
DESCRIPTION:Bella’s Legacy 📣MATCHING DONATIONS OPPORTUNITY – up to $5000!!! 📣You MUST read about this remarkable Low Rider 💙Although we are so saddened for her passing and our hearts ache for Alexa and her family\, BELLA’s LEGACY of love lives on 🩵\n\n\n\n\n\nBella’s Legacy —Bella\, Beanie Baby\, Bella Beans\, Bopperdoodles\, Wompy—the little dachshund with a heart too big for her tiny body\, a spirit too bright for this world. \nAt only 10 weeks old\, Bella rescued her human\, Alexa\, and together\, they began a journey filled with joy\, adventure\, and love. Bella lived the BEST dachshund life! She traveled with her family\, enjoyed boating\, beach time\, and bathing by the pool. From sneaking into stores tucked in a purse to helping mom with volunteer work\, Bella was always by Alexa’s side—her right-hand girl\, her confidante\, her shadow. \nREAD FULL STORY HERE\nWith her huge personality and loving heart\, Bella was there for every major moment—from quiet vows to wild beach days\, from rescue missions to backyard joy. Her legacy lives on in every life she touched: in Jet\, who was scheduled for euthanasia but learned to RUN instead\, in the 25+ dogs she fostered\, and in the unshakable love Alexa and Ryan carry forward through their work with Low Rider. \nIn honor of this little power-house dachshund who spent her life loving and caring for other dogs in need\, we kindly request that you make a donation. Thank You for remembering Bella and for supporting the dogs of Low Rider Dachshund Rescue\, FL!  \nDouble Your Impact!\nDONATIONS MATCHED HERE\nUP TO $5000
URL:https://lowriderrescue.org/event/bellas-legacy/
CATEGORIES:Fundraiser
ATTACH;FMTTYPE=image/png:https://lowriderrescue.org/wp-content/uploads/2025/07/1.png
END:VEVENT
END:VCALENDAR